BEGIN:VCALENDAR
VERSION:2.0
PRODID:-//TVLNAH.TV - ECPv6.15.20//NONSGML v1.0//EN
CALSCALE:GREGORIAN
METHOD:PUBLISH
X-ORIGINAL-URL:https://tvlnah.tv
X-WR-CALDESC:Événements pour TVLNAH.TV
REFRESH-INTERVAL;VALUE=DURATION:PT1H
X-Robots-Tag:noindex
X-PUBLISHED-TTL:PT1H
BEGIN:VTIMEZONE
TZID:America/Toronto
BEGIN:DAYLIGHT
TZOFFSETFROM:-0500
TZOFFSETTO:-0400
TZNAME:EDT
DTSTART:20250309T070000
END:DAYLIGHT
BEGIN:STANDARD
TZOFFSETFROM:-0400
TZOFFSETTO:-0500
TZNAME:EST
DTSTART:20251102T060000
END:STANDARD
BEGIN:DAYLIGHT
TZOFFSETFROM:-0500
TZOFFSETTO:-0400
TZNAME:EDT
DTSTART:20260308T070000
END:DAYLIGHT
BEGIN:STANDARD
TZOFFSETFROM:-0400
TZOFFSETTO:-0500
TZNAME:EST
DTSTART:20261101T060000
END:STANDARD
BEGIN:DAYLIGHT
TZOFFSETFROM:-0500
TZOFFSETTO:-0400
TZNAME:EDT
DTSTART:20270314T070000
END:DAYLIGHT
BEGIN:STANDARD
TZOFFSETFROM:-0400
TZOFFSETTO:-0500
TZNAME:EST
DTSTART:20271107T060000
END:STANDARD
END:VTIMEZONE
BEGIN:VEVENT
DTSTART;TZID=America/Toronto:20260502T190000
DTEND;TZID=America/Toronto:20260502T190000
DTSTAMP:20260424T081821
CREATED:20260423T011401Z
LAST-MODIFIED:20260423T011401Z
UID:10000572-1777748400-1777748400@tvlnah.tv
SUMMARY:Pétroliers vs Bataillon finale match (4) 2 mai 2026 19h
DESCRIPTION:Pétroliers vs Bataillon finale match (4) 2 mai 2026 19h    VOIR LE MATCH  
URL:https://tvlnah.tv/event/petroliers-vs-bataillon-finale-match-4-2-mai-2026-19h/
ATTACH;FMTTYPE=image/png:https://tvlnah.tv/wp-content/uploads/2026/04/LAVAL-BATAILLON-FINALE.png
END:VEVENT
BEGIN:VEVENT
DTSTART;TZID=America/Toronto:20260507T193000
DTEND;TZID=America/Toronto:20260507T223000
DTSTAMP:20260424T081821
CREATED:20260423T012104Z
LAST-MODIFIED:20260423T012104Z
UID:10000573-1778182200-1778193000@tvlnah.tv
SUMMARY:Bataillon vs Pétroliers  finale match (5) 7 mai 2026 19h30
DESCRIPTION:Bataillon vs Pétroliers  finale match (5) 7 mai 2026 19h30  VOIR LE MATCH  
URL:https://tvlnah.tv/event/bataillon-vs-petroliers-finale-match-5-7-mai-2026-19h30/
ATTACH;FMTTYPE=image/png:https://tvlnah.tv/wp-content/uploads/2026/04/BATAILLON-LAVAL-FINALE.png
END:VEVENT
BEGIN:VEVENT
DTSTART;TZID=America/Toronto:20260508T200000
DTEND;TZID=America/Toronto:20260508T230000
DTSTAMP:20260424T081821
CREATED:20260423T013833Z
LAST-MODIFIED:20260423T014002Z
UID:10000575-1778270400-1778281200@tvlnah.tv
SUMMARY:Pétroliers vs Bataillon finale match (6) 8 mai 2026 20h
DESCRIPTION:Pétroliers vs Bataillon finale match (6) 8 mai 2026 20h    VOIR LE MATCH  
URL:https://tvlnah.tv/event/petroliers-vs-bataillon-finale-match-6-8-mai-2026-20h/
ATTACH;FMTTYPE=image/png:https://tvlnah.tv/wp-content/uploads/2026/04/LAVAL-BATAILLON-FINALE.png
END:VEVENT
BEGIN:VEVENT
DTSTART;TZID=America/Toronto:20260510T160000
DTEND;TZID=America/Toronto:20260510T190000
DTSTAMP:20260424T081821
CREATED:20260423T014626Z
LAST-MODIFIED:20260423T014626Z
UID:10000576-1778428800-1778439600@tvlnah.tv
SUMMARY:Bataillon vs Pétroliers  finale match (7) 10 mai 2026 16h
DESCRIPTION:Bataillon vs Pétroliers  finale match (7) 10 mai 2026 16h    VOIR LE MATCH  
URL:https://tvlnah.tv/event/bataillon-vs-petroliers-finale-match-7-10-mai-2026-16h/
ATTACH;FMTTYPE=image/png:https://tvlnah.tv/wp-content/uploads/2026/04/BATAILLON-LAVAL-FINALE.png
END:VEVENT
END:VCALENDAR